Package: OSCA Version: 1.21.0 Command: rm -rf OSCA.book && mkdir OSCA.book && /home/biocbuild/BBS/utils/deploy_book.py OSCA_1.21.0.tar.gz OSCA.book StartedAt: 2025-11-24 11:52:16 -0500 (Mon, 24 Nov 2025) EndedAt: 2025-11-24 11:52:17 -0500 (Mon, 24 Nov 2025) EllapsedTime: 1.1 seconds RetCode: 0 Status: OK DeployDestDir: OSCA.book Warnings: 0