Package: OSCA Version: 1.19.0 Command: /Library/Frameworks/R.framework/Resources/bin/R CMD INSTALL OSCA StartedAt: 2025-10-01 06:15:18 -0400 (Wed, 01 Oct 2025) EndedAt: 2025-10-01 06:15:21 -0400 (Wed, 01 Oct 2025) EllapsedTime: 2.5 seconds RetCode: 0 Status: OK