Package: OSCA Version: 1.19.0 Command: rm -rf OSCA.book && mkdir OSCA.book && /Users/biocbuild/BBS/utils/deploy_book.py OSCA_1.19.0.tar.gz OSCA.book StartedAt: 2025-10-08 07:44:23 -0400 (Wed, 08 Oct 2025) EndedAt: 2025-10-08 07:44:24 -0400 (Wed, 08 Oct 2025) EllapsedTime: 0.5 seconds RetCode: 0 Status: OK DeployDestDir: OSCA.book Warnings: 0