Package: OSCA Version: 1.19.0 Command: /Library/Frameworks/R.framework/Resources/bin/R CMD build --keep-empty-dirs --no-resave-data OSCA StartedAt: 2025-10-01 06:17:07 -0400 (Wed, 01 Oct 2025) EndedAt: 2025-10-01 06:17:29 -0400 (Wed, 01 Oct 2025) EllapsedTime: 21.7 seconds RetCode: 0 Status: OK PackageFile: OSCA_1.19.0.tar.gz PackageFileSize: 432.5 KiB