Package: OSCA Version: 1.19.0 Command: rm -rf OSCA.book && mkdir OSCA.book && /Users/biocbuild/BBS/utils/deploy_book.py OSCA_1.19.0.tar.gz OSCA.book StartedAt: 2025-10-01 06:58:38 -0400 (Wed, 01 Oct 2025) EndedAt: 2025-10-01 06:58:39 -0400 (Wed, 01 Oct 2025) EllapsedTime: 1.1 seconds RetCode: 0 Status: OK DeployDestDir: OSCA.book Warnings: 0