Package: OSCA.workflows Version: 1.17.0 Command: /home/biocbuild/bbs-3.22-bioc/R/bin/R CMD INSTALL OSCA.workflows StartedAt: 2025-07-18 06:15:08 -0400 (Fri, 18 Jul 2025) EndedAt: 2025-07-18 06:15:46 -0400 (Fri, 18 Jul 2025) EllapsedTime: 37.7 seconds RetCode: 0 Status: OK