Package: OSCA.workflows Version: 1.17.0 Command: /home/biocbuild/bbs-3.22-bioc/R/bin/R CMD build --keep-empty-dirs --no-resave-data OSCA.workflows StartedAt: 2025-07-18 06:17:20 -0400 (Fri, 18 Jul 2025) EndedAt: 2025-07-18 07:24:44 -0400 (Fri, 18 Jul 2025) EllapsedTime: 4044.3 seconds RetCode: 0 Status: OK PackageFile: OSCA.workflows_1.17.0.tar.gz PackageFileSize: 17.15 MiB