Package: OSCA.multisample Version: 1.17.0 Command: /home/biocbuild/bbs-3.22-books/R/bin/R CMD INSTALL OSCA.multisample StartedAt: 2025-10-01 06:15:51 -0400 (Wed, 01 Oct 2025) EndedAt: 2025-10-01 06:16:18 -0400 (Wed, 01 Oct 2025) EllapsedTime: 27.0 seconds RetCode: 0 Status: OK