Package: OSCA.multisample Version: 1.19.0 Command: /Library/Frameworks/R.framework/Resources/bin/R CMD INSTALL OSCA.multisample StartedAt: 2025-11-21 06:45:26 -0500 (Fri, 21 Nov 2025) EndedAt: 2025-11-21 06:45:36 -0500 (Fri, 21 Nov 2025) EllapsedTime: 9.7 seconds RetCode: 0 Status: OK