Package: OSCA.multisample Version: 1.19.0 Command: /Library/Frameworks/R.framework/Resources/bin/R CMD build --keep-empty-dirs --no-resave-data OSCA.multisample StartedAt: 2025-11-21 06:46:30 -0500 (Fri, 21 Nov 2025) EndedAt: 2025-11-21 07:25:49 -0500 (Fri, 21 Nov 2025) EllapsedTime: 2359.3 seconds RetCode: 0 Status: OK PackageFile: OSCA.multisample_1.19.0.tar.gz PackageFileSize: 14.77 MiB