Package: OSCA.intro Version: 1.19.0 Command: /home/biocbuild/bbs-3.23-bioc/R/bin/R CMD INSTALL OSCA.intro StartedAt: 2025-11-21 10:15:17 -0500 (Fri, 21 Nov 2025) EndedAt: 2025-11-21 10:15:51 -0500 (Fri, 21 Nov 2025) EllapsedTime: 34.0 seconds RetCode: 0 Status: OK