Package: OSCA.intro Version: 1.19.0 Command: /home/biocbuild/bbs-3.23-bioc/R/bin/R CMD build --keep-empty-dirs --no-resave-data OSCA.intro StartedAt: 2025-11-21 10:17:23 -0500 (Fri, 21 Nov 2025) EndedAt: 2025-11-21 10:25:55 -0500 (Fri, 21 Nov 2025) EllapsedTime: 512.1 seconds RetCode: 0 Status: OK PackageFile: OSCA.intro_1.19.0.tar.gz PackageFileSize: 1.333 MiB