Package: OSCA.intro Version: 1.19.0 Command: /Library/Frameworks/R.framework/Resources/bin/R CMD INSTALL OSCA.intro StartedAt: 2025-11-21 06:45:11 -0500 (Fri, 21 Nov 2025) EndedAt: 2025-11-21 06:45:24 -0500 (Fri, 21 Nov 2025) EllapsedTime: 13.0 seconds RetCode: 0 Status: OK