Package: OSCA.intro Version: 1.19.0 Command: /Library/Frameworks/R.framework/Resources/bin/R CMD build --keep-empty-dirs --no-resave-data OSCA.intro StartedAt: 2025-11-21 06:46:09 -0500 (Fri, 21 Nov 2025) EndedAt: 2025-11-21 06:47:52 -0500 (Fri, 21 Nov 2025) EllapsedTime: 103.0 seconds RetCode: 1 Status: ERROR PackageFile: None PackageFileSize: NA