Package: OSCA.intro Version: 1.17.1 Maintainer: Ludwig Geistlinger MaintainerEmail: ludwig_geistlinger at hms.harvard.edu git_url: https://git.bioconductor.org/packages/OSCA.intro git_branch: devel git_last_commit: f536b4c git_last_commit_date: 2025-06-25 18:51:41 -0400 (Wed, 25 Jun 2025)