Package: OSCA.basic Version: 1.17.0 Command: /home/biocbuild/bbs-3.22-bioc/R/bin/R CMD build --keep-empty-dirs --no-resave-data OSCA.basic StartedAt: 2025-07-21 06:17:06 -0400 (Mon, 21 Jul 2025) EndedAt: 2025-07-21 07:38:33 -0400 (Mon, 21 Jul 2025) EllapsedTime: 4887.6 seconds RetCode: 0 Status: OK PackageFile: OSCA.basic_1.17.0.tar.gz PackageFileSize: 11.34 MiB