Package: OSCA.advanced Version: 1.17.0 Command: /Library/Frameworks/R.framework/Resources/bin/R CMD build --keep-empty-dirs --no-resave-data OSCA.advanced StartedAt: 2025-10-01 06:17:07 -0400 (Wed, 01 Oct 2025) EndedAt: 2025-10-01 07:15:22 -0400 (Wed, 01 Oct 2025) EllapsedTime: 3494.5 seconds RetCode: 1 Status: ERROR PackageFile: None PackageFileSize: NA