Package: OSCA.advanced Version: 1.17.0 Maintainer: Ludwig Geistlinger MaintainerEmail: ludwig_geistlinger at hms.harvard.edu git_url: https://git.bioconductor.org/packages/OSCA.advanced git_branch: devel git_last_commit: 02e867c git_last_commit_date: 2025-04-15 10:47:23 -0400 (Tue, 15 Apr 2025)