Package: OHCA Version: 1.5.0 Command: /home/biocbuild/bbs-3.22-books/R/bin/R CMD INSTALL OHCA StartedAt: 2025-10-08 06:15:13 -0400 (Wed, 08 Oct 2025) EndedAt: 2025-10-08 06:15:14 -0400 (Wed, 08 Oct 2025) EllapsedTime: 0.8 seconds RetCode: 0 Status: OK