Package: OHCA Version: 1.7.0 Command: /Library/Frameworks/R.framework/Resources/bin/R CMD INSTALL OHCA StartedAt: 2025-11-24 06:45:21 -0500 (Mon, 24 Nov 2025) EndedAt: 2025-11-24 06:45:23 -0500 (Mon, 24 Nov 2025) EllapsedTime: 1.5 seconds RetCode: 0 Status: OK