Package: OHCA Version: 1.7.0 Command: rm -rf OHCA.book && mkdir OHCA.book && /Users/biocbuild/BBS/utils/deploy_book.py OHCA_1.7.0.tar.gz OHCA.book StartedAt: 2025-11-24 07:43:56 -0500 (Mon, 24 Nov 2025) EndedAt: 2025-11-24 07:43:56 -0500 (Mon, 24 Nov 2025) EllapsedTime: 0.6 seconds RetCode: 0 Status: OK DeployDestDir: OHCA.book Warnings: 0