Package: BiocBookDemo Version: 1.9.0 Command: rm -rf BiocBookDemo.book && mkdir BiocBookDemo.book && /home/biocbuild/BBS/utils/deploy_book.py BiocBookDemo_1.9.0.tar.gz BiocBookDemo.book StartedAt: 2025-11-21 11:51:17 -0500 (Fri, 21 Nov 2025) EndedAt: 2025-11-21 11:51:18 -0500 (Fri, 21 Nov 2025) EllapsedTime: 1.0 seconds RetCode: 0 Status: OK DeployDestDir: BiocBookDemo.book Warnings: 0