############################################################################## ############################################################################## ### ### Running command: ### ### /home/biocbuild/bbs-3.23-bioc/R/bin/R CMD build --keep-empty-dirs --no-resave-data BiocBookDemo ### ############################################################################## ############################################################################## * checking for file ‘BiocBookDemo/DESCRIPTION’ ... OK * preparing ‘BiocBookDemo’: * checking DESCRIPTION meta-information ... OK * installing the package (it is needed to build vignettes) * creating vignettes ... OK * checking for LF line-endings in source and make files and shell scripts * checking for empty or unneeded directories * building ‘BiocBookDemo_1.9.0.tar.gz’ Warning in utils::tar(filepath, pkgname, compression = compression, compression_level = 9L, : storing paths of more than 100 bytes is not portable: ‘BiocBookDemo/inst/doc/book/site_libs/quarto-html/quarto-syntax-highlighting-a14e345711173c227b21482e2eb4cc70.css’