Package: BiocBookDemo Version: 1.9.0 Command: rm -rf BiocBookDemo.book && mkdir BiocBookDemo.book && /Users/biocbuild/BBS/utils/deploy_book.py BiocBookDemo_1.9.0.tar.gz BiocBookDemo.book StartedAt: 2025-11-21 07:44:12 -0500 (Fri, 21 Nov 2025) EndedAt: 2025-11-21 07:44:12 -0500 (Fri, 21 Nov 2025) EllapsedTime: 0.4 seconds RetCode: 0 Status: OK DeployDestDir: BiocBookDemo.book Warnings: 0