Package: tximeta Version: 1.27.1 Command: /home/rapidbuild/bbs-3.22-bioc-rapid/R/bin/R CMD INSTALL tximeta StartedAt: 2025-06-17 18:28:20 -0400 (Tue, 17 Jun 2025) EndedAt: 2025-06-17 18:28:56 -0400 (Tue, 17 Jun 2025) EllapsedTime: 36.1 seconds RetCode: 0 Status: OK