Package: zellkonverter Version: 1.19.2 Command: /home/rapidbuild/bbs-3.22-bioc-rapid/R/bin/R CMD build --keep-empty-dirs --no-resave-data zellkonverter StartedAt: 2025-10-11 07:36:36 -0400 (Sat, 11 Oct 2025) EndedAt: 2025-10-11 07:37:21 -0400 (Sat, 11 Oct 2025) EllapsedTime: 45.2 seconds RetCode: 0 Status: OK PackageFile: zellkonverter_1.19.2.tar.gz PackageFileSize: 1.414 MiB