Package: vsn Version: 3.77.0 Command: /home/rapidbuild/bbs-3.22-bioc-rapid/R/bin/R CMD INSTALL vsn StartedAt: 2025-07-14 06:17:33 -0400 (Mon, 14 Jul 2025) EndedAt: 2025-07-14 06:17:41 -0400 (Mon, 14 Jul 2025) EllapsedTime: 8.0 seconds RetCode: 0 Status: OK