Package: vsn Version: 3.77.0 Command: /home/rapidbuild/bbs-3.22-bioc-rapid/R/bin/R CMD build --keep-empty-dirs --no-resave-data vsn StartedAt: 2025-07-15 07:36:58 -0400 (Tue, 15 Jul 2025) EndedAt: 2025-07-15 07:37:34 -0400 (Tue, 15 Jul 2025) EllapsedTime: 35.6 seconds RetCode: 0 Status: OK PackageFile: vsn_3.77.0.tar.gz PackageFileSize: 1.926 MiB