Package: tximport Version: 1.37.2 Command: /home/rapidbuild/bbs-3.22-bioc-rapid/R/bin/R CMD INSTALL tximport StartedAt: 2025-10-07 06:05:39 -0400 (Tue, 07 Oct 2025) EndedAt: 2025-10-07 06:05:41 -0400 (Tue, 07 Oct 2025) EllapsedTime: 2.0 seconds RetCode: 0 Status: OK