Package: tximport Version: 1.37.2 Command: /home/rapidbuild/bbs-3.22-bioc-rapid/R/bin/R CMD check --install=check:tximport.install-out.txt --library=/home/rapidbuild/bbs-3.22-bioc-rapid/R/site-library --timings tximport_1.37.2.tar.gz StartedAt: 2025-10-14 09:41:48 -0400 (Tue, 14 Oct 2025) EndedAt: 2025-10-14 09:43:49 -0400 (Tue, 14 Oct 2025) EllapsedTime: 120.6 seconds RetCode: 0 Status: OK CheckDir: tximport.Rcheck Warnings: 0