Package: tximport Version: 1.37.2 Command: /home/rapidbuild/bbs-3.22-bioc-rapid/R/bin/R CMD build --keep-empty-dirs --no-resave-data tximport StartedAt: 2025-10-07 07:36:45 -0400 (Tue, 07 Oct 2025) EndedAt: 2025-10-07 07:37:29 -0400 (Tue, 07 Oct 2025) EllapsedTime: 43.6 seconds RetCode: 0 Status: OK PackageFile: tximport_1.37.2.tar.gz PackageFileSize: 309.2 KiB