Package: tximport Version: 1.37.1 Maintainer: Michael Love MaintainerEmail: michaelisaiahlove at gmail.com git_url: https://git.bioconductor.org/packages/tximport git_branch: devel git_last_commit: 6532431 git_last_commit_date: 2025-07-01 10:46:29 -0400 (Tue, 01 Jul 2025)