Package: tximeta Version: 1.27.2 Command: /home/rapidbuild/bbs-3.22-bioc-rapid/R/bin/R CMD INSTALL tximeta StartedAt: 2025-07-21 06:25:53 -0400 (Mon, 21 Jul 2025) EndedAt: 2025-07-21 06:26:26 -0400 (Mon, 21 Jul 2025) EllapsedTime: 33.3 seconds RetCode: 0 Status: OK