Package: tximeta Version: 1.27.2 Command: /home/rapidbuild/bbs-3.22-bioc-rapid/R/bin/R CMD build --keep-empty-dirs --no-resave-data tximeta StartedAt: 2025-07-21 07:32:32 -0400 (Mon, 21 Jul 2025) EndedAt: 2025-07-21 07:33:51 -0400 (Mon, 21 Jul 2025) EllapsedTime: 78.9 seconds RetCode: 0 Status: OK PackageFile: tximeta_1.27.2.tar.gz PackageFileSize: 1.333 MiB