Package: tximeta Version: 1.27.2 Maintainer: Michael Love MaintainerEmail: michaelisaiahlove at gmail.com git_url: https://git.bioconductor.org/packages/tximeta git_branch: devel git_last_commit: 26a60bf git_last_commit_date: 2025-06-21 02:25:54 -0400 (Sat, 21 Jun 2025)