Package: txdbmaker Version: 1.5.6 Command: /home/rapidbuild/bbs-3.22-bioc-rapid/R/bin/R CMD INSTALL txdbmaker StartedAt: 2025-07-14 06:24:35 -0400 (Mon, 14 Jul 2025) EndedAt: 2025-07-14 06:25:08 -0400 (Mon, 14 Jul 2025) EllapsedTime: 33.8 seconds RetCode: 0 Status: OK