Package: txdbmaker Version: 1.5.6 Command: /home/rapidbuild/bbs-3.22-bioc-rapid/R/bin/R CMD build --keep-empty-dirs --no-resave-data txdbmaker StartedAt: 2025-07-14 07:41:22 -0400 (Mon, 14 Jul 2025) EndedAt: 2025-07-14 07:48:26 -0400 (Mon, 14 Jul 2025) EllapsedTime: 424.0 seconds RetCode: 0 Status: OK PackageFile: txdbmaker_1.5.6.tar.gz PackageFileSize: 1010 KiB