Package: snpStats Version: 1.59.2 Command: /home/rapidbuild/bbs-3.22-bioc-rapid/R/bin/R CMD INSTALL snpStats StartedAt: 2025-06-28 12:08:23 -0400 (Sat, 28 Jun 2025) EndedAt: 2025-06-28 12:08:36 -0400 (Sat, 28 Jun 2025) EllapsedTime: 13.2 seconds RetCode: 0 Status: OK