Package: snpStats Version: 1.59.2 Command: /home/rapidbuild/bbs-3.22-bioc-rapid/R/bin/R CMD check --install=check:snpStats.install-out.txt --library=/home/rapidbuild/bbs-3.22-bioc-rapid/R/site-library --timings snpStats_1.59.2.tar.gz StartedAt: 2025-06-28 15:19:46 -0400 (Sat, 28 Jun 2025) EndedAt: 2025-06-28 15:21:13 -0400 (Sat, 28 Jun 2025) EllapsedTime: 87.6 seconds RetCode: 0 Status: WARNINGS CheckDir: snpStats.Rcheck Warnings: 2