Package: snpStats Version: 1.59.2 Command: /home/rapidbuild/bbs-3.22-bioc-rapid/R/bin/R CMD build --keep-empty-dirs --no-resave-data snpStats StartedAt: 2025-06-28 13:30:23 -0400 (Sat, 28 Jun 2025) EndedAt: 2025-06-28 13:31:11 -0400 (Sat, 28 Jun 2025) EllapsedTime: 47.6 seconds RetCode: 0 Status: OK PackageFile: snpStats_1.59.2.tar.gz PackageFileSize: 7.73 MiB