Package: snifter Version: 1.19.3 Command: /home/rapidbuild/bbs-3.22-bioc-rapid/R/bin/R CMD INSTALL snifter StartedAt: 2025-07-20 06:11:42 -0400 (Sun, 20 Jul 2025) EndedAt: 2025-07-20 06:11:48 -0400 (Sun, 20 Jul 2025) EllapsedTime: 5.2 seconds RetCode: 0 Status: OK