Package: snifter Version: 1.19.3 Command: /home/rapidbuild/bbs-3.22-bioc-rapid/R/bin/R CMD check --install=check:snifter.install-out.txt --library=/home/rapidbuild/bbs-3.22-bioc-rapid/R/site-library --timings snifter_1.19.3.tar.gz StartedAt: 2025-07-20 09:21:59 -0400 (Sun, 20 Jul 2025) EndedAt: 2025-07-20 09:23:29 -0400 (Sun, 20 Jul 2025) EllapsedTime: 90.3 seconds RetCode: 0 Status: OK CheckDir: snifter.Rcheck Warnings: 0