Package: snifter Version: 1.19.3 Command: /home/rapidbuild/bbs-3.22-bioc-rapid/R/bin/R CMD build --keep-empty-dirs --no-resave-data snifter StartedAt: 2025-07-20 07:31:22 -0400 (Sun, 20 Jul 2025) EndedAt: 2025-07-20 07:31:47 -0400 (Sun, 20 Jul 2025) EllapsedTime: 25.0 seconds RetCode: 0 Status: OK PackageFile: snifter_1.19.3.tar.gz PackageFileSize: 734.8 KiB