Package: snifter Version: 1.19.3 Maintainer: Alan O'Callaghan MaintainerEmail: alan.ocallaghan at outlook.com git_url: https://git.bioconductor.org/packages/snifter git_branch: devel git_last_commit: 99e9f4d git_last_commit_date: 2025-07-17 05:52:48 -0400 (Thu, 17 Jul 2025)