Package: siggenes Version: 1.83.0 Command: /home/rapidbuild/bbs-3.22-bioc-rapid/R/bin/R CMD build --keep-empty-dirs --no-resave-data siggenes StartedAt: 2025-07-21 07:27:07 -0400 (Mon, 21 Jul 2025) EndedAt: 2025-07-21 07:27:27 -0400 (Mon, 21 Jul 2025) EllapsedTime: 20.0 seconds RetCode: 0 Status: OK PackageFile: siggenes_1.83.0.tar.gz PackageFileSize: 744.8 KiB