Package: sesame Version: 1.27.1 Command: /home/rapidbuild/bbs-3.22-bioc-rapid/R/bin/R CMD INSTALL sesame StartedAt: 2025-07-25 06:23:24 -0400 (Fri, 25 Jul 2025) EndedAt: 2025-07-25 06:23:52 -0400 (Fri, 25 Jul 2025) EllapsedTime: 28.6 seconds RetCode: 0 Status: OK