Package: seqLogo Version: 1.75.0 Command: /home/rapidbuild/bbs-3.22-bioc-rapid/R/bin/R CMD build --keep-empty-dirs --no-resave-data seqLogo StartedAt: 2025-06-28 13:27:05 -0400 (Sat, 28 Jun 2025) EndedAt: 2025-06-28 13:27:10 -0400 (Sat, 28 Jun 2025) EllapsedTime: 5.0 seconds RetCode: 0 Status: OK PackageFile: seqLogo_1.75.0.tar.gz PackageFileSize: 919 KiB