Package: scuttle Version: 1.21.0 Command: /home/rapidbuild/bbs-3.23-bioc-rapid/R/bin/R CMD INSTALL scuttle StartedAt: 2025-11-16 06:18:28 -0500 (Sun, 16 Nov 2025) EndedAt: 2025-11-16 06:19:25 -0500 (Sun, 16 Nov 2025) EllapsedTime: 57.1 seconds RetCode: 0 Status: OK