Package: scrapper Version: 1.3.5 Command: /home/rapidbuild/bbs-3.22-bioc-rapid/R/bin/R CMD check --install=check:scrapper.install-out.txt --library=/home/rapidbuild/bbs-3.22-bioc-rapid/R/site-library --timings scrapper_1.3.5.tar.gz StartedAt: 2025-07-18 09:11:48 -0400 (Fri, 18 Jul 2025) EndedAt: 2025-07-18 09:17:17 -0400 (Fri, 18 Jul 2025) EllapsedTime: 328.6 seconds RetCode: 0 Status: WARNINGS CheckDir: scrapper.Rcheck Warnings: 1