Package: scrapper Version: 1.3.5 Command: /home/rapidbuild/bbs-3.22-bioc-rapid/R/bin/R CMD build --keep-empty-dirs --no-resave-data scrapper StartedAt: 2025-07-17 07:28:45 -0400 (Thu, 17 Jul 2025) EndedAt: 2025-07-17 07:35:57 -0400 (Thu, 17 Jul 2025) EllapsedTime: 431.3 seconds RetCode: 0 Status: OK PackageFile: scrapper_1.3.5.tar.gz PackageFileSize: 868.4 KiB